BEGIN:VCALENDAR
VERSION:2.0
PRODID:-//https://www.westherts.ac.uk///NONSGML kigkonsult.se iCalcreator 2.10.15//
METHOD:PUBLISH
BEGIN:VEVENT
UID:20260425T160050UTC-5258xWmscc@https://www.westherts.ac.uk/
DTSTAMP:20260425T160050Z
DESCRIPTION:🎭 Event Information\n\n📍 This show will&nbsp\;take place in The
  Theatre🕕 Doors open at 1:45pm\n\n🎟️ Tickets\nAdults – £7.50Concessions – 
 £5Students with Student ID – FREEApplicants – FREE\n\n✨ About the Show\nTh
 is devised\, collaborative theatre production is presented in a cabaret-st
 yle format\, presenting a sequence of scenes\, stories\, and performances 
 inspired by events from the 28th\, 29th and 30th of April.\nDrawing on the
 mes of politics\, philosophy\, history\, true crime\, and tales from the u
 nderground\, the show explores the strange and fascinating corners of huma
 n experience.\nSet within an immersive speakeasy environment\, the audienc
 e becomes part of the atmosphere. Expect unexpected moments\, audience int
 eraction\, and a night of bold\, thought-provoking performance.\n\n🎬 Credi
 ts\nPresented by Level 3 Year 2 ActingProduced by Level 3 Year 2 Live Even
 t Production students.\n https://www.westherts.ac.uk/whats-on/events/event
 /199-3-days-in-april-live-show
DTSTART:20260429T130000Z
DTEND:20260429T150000Z
LOCATION:West Herts College Watford campus ()
SUMMARY:3 Days In April - Live Show
URL:https://www.westherts.ac.uk/whats-on/events/event/199-3-days-in-april-l
 ive-show
END:VEVENT
END:VCALENDAR
