BEGIN:VCALENDAR
VERSION:2.0
PRODID:-//https://www.westherts.ac.uk///NONSGML kigkonsult.se iCalcreator 2.10.15//
METHOD:PUBLISH
BEGIN:VEVENT
UID:20260425T160116UTC-3373GuAljZ@https://www.westherts.ac.uk/
DTSTAMP:20260425T160116Z
DESCRIPTION:🎭 Event Information\n\n📍 This show will&nbsp\;take place in The
  Theatre🕕 Doors open at 6:15pm\n\n🎟️ Tickets\nAdults – £7.50Concessions – 
 £5Students with Student ID – £1Applicants – £1\n\n✨ About the Show\nThis d
 evised\, collaborative theatre production is presented in a cabaret-style 
 format\, presenting a sequence of scenes\, stories\, and performances insp
 ired by events from the 28th\, 29th and 30th of April.\nDrawing on themes 
 of politics\, philosophy\, history\, true crime\, and tales from the under
 ground\, the show explores the strange and fascinating corners of human ex
 perience.\nSet within an immersive speakeasy environment\, the audience be
 comes part of the atmosphere. Expect unexpected moments\, audience interac
 tion\, and a night of bold\, thought-provoking performance.\n\n🎬 Credits\n
 Presented by Level 3 Year 2 ActingProduced by Level 3 Year 2 Live Event Pr
 oduction students.\n https://www.westherts.ac.uk/whats-on/events/event/196
 -3-days-in-april-live-show
DTSTART:20260428T173000Z
DTEND:20260428T193000Z
LOCATION:West Herts College Watford campus ()
SUMMARY:3 Days In April - Live Show
URL:https://www.westherts.ac.uk/whats-on/events/event/196-3-days-in-april-l
 ive-show
END:VEVENT
END:VCALENDAR
